Workbook
Name ARET: #REF!
Name ativo: #REF!
Name BALANÇOS_COMPARADOS: '3-Balanço'!$A$6:$D$76
Name bpap: #REF!
Name CONTA: [1]!Tabela4[CONTA]
Name DEMONSTRATIVO_DE_RESULTADOS: '3-Balanço'!#REF!
Name Invest: [2]Cenario!$B$2
Name Investimento_Inicial: [2]AC!$B$3
Name nots1: '[3]Note 4-10'!#REF!
Name passivo: #REF!
Name Perc._VB_que_corr._a_CV: [2]AC!$B$7
Name Preço_Ano1: [2]Cenario!$C$13
Name Preço_Ano2: [2]Cenario!$D$13
Name Preço_Ano3: [2]Cenario!$E$13
Name Preço_Ano4: [2]Cenario!$F$13
Name Preço_Ano5: [2]Cenario!$G$13
Name side1: '[3]Note 4-10'!#REF!
Name TEST: #REF!
Name TIPO: [1]!Tabela3[TIPO]
Name TIR: [2]AC!$C$30
Name Vendas_Brutas_Ano_1: [2]AC!$C$15
Name Vendas_Brutas_Ano_2: [2]AC!$D$15
Name Vendas_Brutas_Ano_3: [2]AC!$E$15
Name Vendas_Brutas_Ano_4: [2]AC!$F$15
Name Vendas_Brutas_Ano_5: [2]AC!$G$15
Name VPL: [2]AC!$C$29

Sheet Início
H9: =IF(J13=1,"Ano","Year") -> Ano | J9: =IF(J13=1,"Mês","Month") -> Mês | L9: =IF(J13=1,"Período","Date") -> Período
H10: 2014 | J10: 1 | L10: =DATE(YEAR(Início!$J$43),$J$10,IF(OR($J$10=1,$J$10=3,$J$10=5,$J$10=7,$J$10=8,$J$10=10,$J$10=12),31,IF(OR($J$10=4,$J$10=6,$J$10=9,$J$10=11),30,IF(DATE(YEAR(Início!$J$43),12,31)-DATE(YEAR(Início!$J$43),1,1)=365,29,28)))) -> 41670
J12: =IF(J13=1,"Idioma","Language") -> Idioma | L12: =IF(J13=1,"Moeda","Currency") -> Moeda
J13: 1 | L13: 1
H43: TOTAL | I43: =DATE(H10-1,12,31) -> 41639 | J43: =DATE(YEAR(I43)+1,1,31) -> 41670 | K43: =DATE(YEAR(J43),MONTH(J43)+1,IF(OR(MONTH(J43)+1=3,MONTH(J43)+1=5,MONTH(J43)+1=7,MONTH(J43)+1=8,MONTH(J43)+1=10,MONTH(J43)+1=12),31,IF(OR(MONTH(J43)+1=4,MONTH(J43)+1=6,MONTH(J43)+1=9,MONTH(J43)+1=11),30,IF(DATE(YEAR(J43),12,31)-DATE(YEAR(J43),MONTH(J43),1)=365,29,28)))) -> 41698 | L43: =DATE(YEAR(K43),MONTH(K43)+1,IF(OR(MONTH(K43)+1=3,MONTH(K43)+1=5,MONTH(K43)+1=7,MONTH(K43)+1=8,MONTH(K43)+1=10,MONTH(K43)+1=12),31,IF(OR(MONTH(K43)+1=4,MONTH(K43)+1=6,MONTH(K43)+1=9,MONTH(K43)+1=11),30,IF(DATE(YEAR(K43),12,31)-DATE(YEAR(K43),MONTH(K43),1)=365,29,28)))) -> 41729 | M43: =DATE(YEAR(L43),MONTH(L43)+1,IF(OR(MONTH(L43)+1=3,MONTH(L43)+1=5,MONTH(L43)+1=7,MONTH(L43)+1=8,MONTH(L43)+1=10,MONTH(L43)+1=12),31,IF(OR(MONTH(L43)+1=4,MONTH(L43)+1=6,MONTH(L43)+1=9,MONTH(L43)+1=11),30,IF(DATE(YEAR(L43),12,31)-DATE(YEAR(L43),MONTH(L43),1)=365,29,28)))) -> 41759 | N43: =DATE(YEAR(M43),MONTH(M43)+1,IF(OR(MONTH(M43)+1=3,MONTH(M43)+1=5,MONTH(M43)+1=7,MONTH(M43)+1=8,MONTH(M43)+1=10,MONTH(M43)+1=12),31,IF(OR(MONTH(M43)+1=4,MONTH(M43)+1=6,MONTH(M43)+1=9,MONTH(M43)+1=11),30,IF(DATE(YEAR(M43),12,31)-DATE(YEAR(M43),MONTH(M43),1)=365,29,28)))) -> 41790 | O43: =DATE(YEAR(N43),MONTH(N43)+1,IF(OR(MONTH(N43)+1=3,MONTH(N43)+1=5,MONTH(N43)+1=7,MONTH(N43)+1=8,MONTH(N43)+1=10,MONTH(N43)+1=12),31,IF(OR(MONTH(N43)+1=4,MONTH(N43)+1=6,MONTH(N43)+1=9,MONTH(N43)+1=11),30,IF(DATE(YEAR(N43),12,31)-DATE(YEAR(N43),MONTH(N43),1)=365,29,28)))) -> 41820 | U43: =DATE(YEAR(O43),MONTH(O43)+1,IF(OR(MONTH(O43)+1=3,MONTH(O43)+1=5,MONTH(O43)+1=7,MONTH(O43)+1=8,MONTH(O43)+1=10,MONTH(O43)+1=12),31,IF(OR(MONTH(O43)+1=4,MONTH(O43)+1=6,MONTH(O43)+1=9,MONTH(O43)+1=11),30,IF(DATE(YEAR(O43),12,31)-DATE(YEAR(O43),MONTH(O43),1)=365,29,28)))) -> 41851 | V43: =DATE(YEAR(U43),MONTH(U43)+1,IF(OR(MONTH(U43)+1=3,MONTH(U43)+1=5,MONTH(U43)+1=7,MONTH(U43)+1=8,MONTH(U43)+1=10,MONTH(U43)+1=12),31,IF(OR(MONTH(U43)+1=4,MONTH(U43)+1=6,MONTH(U43)+1=9,MONTH(U43)+1=11),30,IF(DATE(YEAR(U43),12,31)-DATE(YEAR(U43),MONTH(U43),1)=365,29,28)))) -> 41882 | W43: =DATE(YEAR(V43),MONTH(V43)+1,IF(OR(MONTH(V43)+1=3,MONTH(V43)+1=5,MONTH(V43)+1=7,MONTH(V43)+1=8,MONTH(V43)+1=10,MONTH(V43)+1=12),31,IF(OR(MONTH(V43)+1=4,MONTH(V43)+1=6,MONTH(V43)+1=9,MONTH(V43)+1=11),30,IF(DATE(YEAR(V43),12,31)-DATE(YEAR(V43),MONTH(V43),1)=365,29,28)))) -> 41912 | X43: =DATE(YEAR(W43),MONTH(W43)+1,IF(OR(MONTH(W43)+1=3,MONTH(W43)+1=5,MONTH(W43)+1=7,MONTH(W43)+1=8,MONTH(W43)+1=10,MONTH(W43)+1=12),31,IF(OR(MONTH(W43)+1=4,MONTH(W43)+1=6,MONTH(W43)+1=9,MONTH(W43)+1=11),30,IF(DATE(YEAR(W43),12,31)-DATE(YEAR(W43),MONTH(W43),1)=365,29,28)))) -> 41943 | Y43: =DATE(YEAR(X43),MONTH(X43)+1,IF(OR(MONTH(X43)+1=3,MONTH(X43)+1=5,MONTH(X43)+1=7,MONTH(X43)+1=8,MONTH(X43)+1=10,MONTH(X43)+1=12),31,IF(OR(MONTH(X43)+1=4,MONTH(X43)+1=6,MONTH(X43)+1=9,MONTH(X43)+1=11),30,IF(DATE(YEAR(X43),12,31)-DATE(YEAR(X43),MONTH(X43),1)=365,29,28)))) -> 41973 | Z43: =DATE(YEAR(Y43),MONTH(Y43)+1,IF(OR(MONTH(Y43)+1=3,MONTH(Y43)+1=5,MONTH(Y43)+1=7,MONTH(Y43)+1=8,MONTH(Y43)+1=10,MONTH(Y43)+1=12),31,IF(OR(MONTH(Y43)+1=4,MONTH(Y43)+1=6,MONTH(Y43)+1=9,MONTH(Y43)+1=11),30,IF(DATE(YEAR(Y43),12,31)-DATE(YEAR(Y43),MONTH(Y43),1)=365,29,28)))) -> 42004 | AA43: =DATE(YEAR(Z43),MONTH(Z43)+1,IF(OR(MONTH(Z43)+1=3,MONTH(Z43)+1=5,MONTH(Z43)+1=7,MONTH(Z43)+1=8,MONTH(Z43)+1=10,MONTH(Z43)+1=12),31,IF(OR(MONTH(Z43)+1=4,MONTH(Z43)+1=6,MONTH(Z43)+1=9,MONTH(Z43)+1=11),30,IF(DATE(YEAR(Z43),12,31)-DATE(YEAR(Z43),MONTH(Z43),1)=365,29,28)))) -> 42032
M45: Português
M46: Inglês
M48: Reais
M49: Mil Reais

Sheet Capa

Sheet Índice
B1: Índice
B3: 1 - Introdução
B4: 2 - Premissas
B5: 3 - Balanço Patrimonial
B6: 4 - Demonstração de Resultados do Exercício
B7: 5 - Fluxo de Caixa
B8: 6 - Indicadores de Desempenho
B9: 7 - Cálculos
B10: 8 - Investimentos
B11: 9 - Financiamentos
B12: 10 - Fluxo de Caixa Livre da Empresa
B13: 11 - Fluxo de Caixa Livre do Acionista
... B16: 14 - Gráficos

Sheet 1-Introdução
A1: Voltar índice
A3: Introdução
A5: Para a análise e composição das premissas e projeções foram utilizadas diversas fontes de informações, tais como: mídia especializada, site da internet da CVRD (www.cvrd.com.br), dados da palestra realizado pelo Sr. Roberto Castelo Branco, Diretor de Relações com Investidores, informações impressas de empresas de consultoria. Com base nestas informações e nas ferramentas utilizadas em anexo, elaboramos o que para nós se aproxima do valor da empresa. O setor de minerio de ferro está atravessando um periodo sem precedentes na história, impulsionado pela forte demanda da China. Nesse sentido, a expectativa é de manutenção dos preços, após o aumento de 71,5% em Março/2005, que aliado ao aumento de volume das vendas em função da antecipação de investimentos, se traduz numa expressiva geração de caixa para a Vale do Rio Doce.
A8: Investimentos
A10: Seu programa de investimentos reflete a estratégia da Vale de se tornar uma empresa diversificada de mineração, e a inauguração de Sossego (cobre) marca o início dessa meta. Além disso, ampliou, nos ultimos anos, os investimentos em pesquisa geológica, com os recursos adicionais sendo destinados à prospecção de novos depósitos minerais em outros países. O orçamento consolidado para 2005 é de US$3,3 Bi e até 2010 de aproximadamente US$13,0 Bi. Em relação à 2004, os valores de 2005 são substancialmente superiores. Destacam-se os investimento em exploração de carvão, Paragominas e as expansões da planta da Alunorte. A partir de 2010 a Vale deverá continuar a fazer altos investimentos, pois algumas minas entrarão em exaustão, e segundo alguns analistas, a expansão das minas no mundo estará restrito pela excassez de equipamentos, empreiteiras e pneus. Assim consideramos um percentual de 20 % do EBITDA, do ano anterior, para ser utilizado em investimentos em manutenção e no crescimento orgânico.
A13: Minério de Ferro
A15: Acreditamos numa manutenção dos preços mesmo após a alta de Março de 2005 (71,5%).Pelos motivos apresentados anteriormente eles podem, inclusive, sofrer pequenos reajustes, dependendo da demanda da China, que deve continuar alta, ainda por alguns anos.
A18: Dividendos
A20: Desde a sua privatização em 1997a Vale paga 50% do seu lucro líquido em dividendos. Como tem forte geração de caixa nos últimos anos e projeções, consideramos um aumento nesse percentual, que pode chegar até 75% do lucro.
A23: Risco Vale
A25: Pelo fato de não acreditarmos que o Brasil (Risco Soberano) chegue a Investment Grade, não achamos que a Vale alcançará, também.
A28: Financiamentos
... A40: Com o aumento da produção devido ao aumento nas vendas, conseqüentemente os serviços de logísticas serão imprescindíveis como parte estratégica alavancando resultados também expressivos.

Sheet 2-Premissas
B1: Voltar índice
B2: Premissas
C3: =+'3-Balanço'!E5 -> 42369 | D3: =+'3-Balanço'!F5 -> 42735 | E3: =+'3-Balanço'!G5 -> 43100 | F3: =+'3-Balanço'!H5 -> 43465 | G3: =+'3-Balanço'!I5 -> 43830 | H3: =+'3-Balanço'!J5 -> 44196 | I3: =+'3-Balanço'!K5 -> 44561 | J3: =+'3-Balanço'!L5 -> 44926 | ... O3: =+'3-Balanço'!Q5 -> 46752
B4: 1 - Valores em R$
B6: 2 - Volume de vendas
B7: Minério de ferro e pelotas | C7: 0.11 | D7: 0.0791 | E7: 0.116 | F7: 0.1 | G7: 0.1 | H7: =G7 -> 0.1 | I7: 1e-05 | J7: 1e-05 | K7: 0.03 | L7: =K7 -> 0.03 | M7: =L7 -> 0.03 | N7: =M7 -> 0.03 | O7: =N7 -> 0.03
B8: Manganês e ferro ligas | C8: 0.1 | D8: 0.05 | E8: 0.05 | F8: 0.05 | G8: 0.03 | H8: =G8 -> 0.03 | I8: =H8 -> 0.03 | J8: =I8 -> 0.03 | K8: =J8 -> 0.03 | L8: =K8 -> 0.03 | M8: =L8 -> 0.03 | N8: =M8 -> 0.03 | O8: =N8 -> 0.03
B9: Ouro | C9: 0.01 | D9: =C9 -> 0.01 | E9: =D9 -> 0.01 | F9: =E9 -> 0.01 | G9: =F9 -> 0.01 | H9: =G9 -> 0.01 | I9: =H9 -> 0.01 | J9: =I9 -> 0.01 | K9: =J9 -> 0.01 | ... O9: =N9 -> 0.01
B10: Potássio | C10: 0.05 | D10: =C10 -> 0.05 | E10: =D10 -> 0.05 | F10: =E10 -> 0.05 | G10: =F10 -> 0.05 | H10: =G10 -> 0.05 | I10: =H10 -> 0.05 | J10: =I10 -> 0.05 | K10: =J10 -> 0.05 | ... O10: =N10 -> 0.05
B11: Caulim | C11: 0.05 | D11: 0.03 | E11: 0.03 | F11: 0.02 | G11: 0.01 | H11: =G11 -> 0.01 | I11: =H11 -> 0.01 | J11: =I11 -> 0.01 | K11: =J11 -> 0.01 | L11: =K11 -> 0.01 | M11: =L11 -> 0.01 | N11: =M11 -> 0.01 | O11: =N11 -> 0.01
B12: Cobre | C12: 0.87 | D12: 1e-05 | E12: 1e-05 | F12: 1e-05 | G12: 1e-05 | H12: 1e-05 | I12: 1e-05 | J12: 1e-05 | K12: 1e-05 | L12: 1e-05 | M12: 1e-05 | N12: 1e-05 | O12: 1e-05
B14: Receitas de serviços de logística | C14: 0.05 | D14: 0.05 | E14: 0.02 | F14: 0.02 | G14: 0.02 | H14: =G14 -> 0.02 | I14: =H14 -> 0.02 | J14: =I14 -> 0.02 | K14: =J14 -> 0.02 | L14: =K14 -> 0.02 | M14: =L14 -> 0.02 | N14: =M14 -> 0.02 | O14: =N14 -> 0.02
B15: Produtos de alumínio | C15: 0.02 | D15: 0.05 | E15: 0.05 | F15: 0.05 | G15: 0.05 | H15: =G15 -> 0.05 | I15: =H15 -> 0.05 | J15: =I15 -> 0.05 | K15: =J15 -> 0.05 | L15: =K15 -> 0.05 | M15: =L15 -> 0.05 | N15: =M15 -> 0.05 | O15: =N15 -> 0.05
B16: Outros produtos e serviços | C16: 0.05 | D16: 0.15 | E16: 0.05 | F16: 0.05 | G16: 0.05 | H16: =G16 -> 0.05 | I16: =H16 -> 0.05 | J16: =I16 -> 0.05 | K16: =J16 -> 0.05 | L16: =K16 -> 0.05 | M16: =L16 -> 0.05 | N16: =M16 -> 0.05 | O16: =N16 -> 0.05
B18: 3 - Receitas
B19: Minério de ferro e pelotas | C19: 0.715 | D19: 0.1 | E19: 0.05 | F19: 0.05 | G19: 0.05 | H19: 0.05 | I19: 0.0001 | J19: 0.0001 | K19: 0.0001 | L19: 0.05 | M19: =L19 -> 0.05 | N19: =M19 -> 0.05 | O19: =N19 -> 0.05
B20: Manganês e ferro ligas | C20: 0.12 | D20: 0.02 | E20: 0.02 | F20: 0.02 | G20: 0.05 | H20: =G20 -> 0.05 | I20: =H20 -> 0.05 | J20: =I20 -> 0.05 | K20: =J20 -> 0.05 | L20: =K20 -> 0.05 | M20: =L20 -> 0.05 | N20: =M20 -> 0.05 | O20: =N20 -> 0.05
B21: Ouro | C21: 0.09 | D21: 0.03 | E21: 0.03 | F21: 0.03 | G21: 0.05 | H21: =G21 -> 0.05 | I21: =H21 -> 0.05 | J21: =I21 -> 0.05 | K21: =J21 -> 0.05 | L21: =K21 -> 0.05 | M21: =L21 -> 0.05 | N21: =M21 -> 0.05 | O21: =N21 -> 0.05
B22: Potássio | C22: 0.03 | D22: =C22 -> 0.03 | E22: =D22 -> 0.03 | F22: =E22 -> 0.03 | G22: =F22 -> 0.03 | H22: =G22 -> 0.03 | I22: =H22 -> 0.03 | J22: =I22 -> 0.03 | K22: =J22 -> 0.03 | ... O22: =N22 -> 0.03
B23: Caulim | C23: 0.03 | D23: =C23 -> 0.03 | E23: =D23 -> 0.03 | F23: =E23 -> 0.03 | G23: =F23 -> 0.03 | H23: =G23 -> 0.03 | I23: =H23 -> 0.03 | J23: =I23 -> 0.03 | K23: =J23 -> 0.03 | ... O23: =N23 -> 0.03
B24: Cobre | C24: 0 | D24: -0.05 | E24: =D24 -> -0.05 | F24: =E24 -> -0.05 | G24: 0 | H24: =G24 -> 0 | I24: =H24 -> 0 | J24: =I24 -> 0 | K24: =J24 -> 0 | L24: =K24 -> 0 | M24: =L24 -> 0 | N24: =M24 -> 0 | O24: =N24 -> 0
B26: Receitas de serviços de logística | C26: 0.02 | D26: =C26 -> 0.02 | E26: =D26 -> 0.02 | F26: =E26 -> 0.02 | G26: =F26 -> 0.02 | H26: =G26 -> 0.02 | I26: =H26 -> 0.02 | J26: =I26 -> 0.02 | K26: =J26 -> 0.02 | ... O26: =N26 -> 0.02
B27: Produtos de alumínio | C27: 0.03 | D27: 0.25 | E27: 0.05 | F27: 0.05 | G27: 0.05 | H27: =G27 -> 0.05 | I27: =H27 -> 0.05 | J27: =I27 -> 0.05 | K27: =J27 -> 0.05 | L27: =K27 -> 0.05 | M27: =L27 -> 0.05 | N27: =M27 -> 0.05 | O27: =N27 -> 0.05
B28: Outros produtos e serviços | C28: 0.03 | D28: 0.25 | E28: 0.05 | F28: 0.05 | G28: 0.05 | H28: =G28 -> 0.05 | I28: =H28 -> 0.05 | J28: =I28 -> 0.05 | K28: =J28 -> 0.05 | L28: =K28 -> 0.05 | M28: =L28 -> 0.05 | N28: =M28 -> 0.05 | O28: =N28 -> 0.05
B30: 4 - Impostos sobre vendas e serviços | C30: 0.05 | D30: =C30 -> 0.05 | E30: =D30 -> 0.05 | F30: =E30 -> 0.05 | G30: =F30 -> 0.05 | H30: =G30 -> 0.05 | I30: =H30 -> 0.05 | J30: =I30 -> 0.05 | K30: =J30 -> 0.05 | ... O30: =N30 -> 0.05
B33: 5 - CUSTOS OPERACIONAIS
B34: de minerais e metais | C34: 0.06 | D34: =C34 -> 0.06 | E34: =D34 -> 0.06 | F34: =E34 -> 0.06 | G34: =F34 -> 0.06 | H34: =G34 -> 0.06 | I34: =H34 -> 0.06 | J34: =I34 -> 0.06 | K34: =J34 -> 0.06 | ... O34: =N34 -> 0.06
B35: de serviços de logística | C35: 0.06 | D35: =C35 -> 0.06 | E35: =D35 -> 0.06 | F35: =E35 -> 0.06 | G35: =F35 -> 0.06 | H35: =G35 -> 0.06 | I35: =H35 -> 0.06 | J35: =I35 -> 0.06 | K35: =J35 -> 0.06 | ... O35: =N35 -> 0.06
B36: de produtos de alumínio | C36: 0.06 | D36: =C36 -> 0.06 | E36: =D36 -> 0.06 | F36: =E36 -> 0.06 | G36: =F36 -> 0.06 | H36: =G36 -> 0.06 | I36: =H36 -> 0.06 | J36: =I36 -> 0.06 | K36: =J36 -> 0.06 | ... O36: =N36 -> 0.06
B37: outros | C37: 0.06 | D37: =C37 -> 0.06 | E37: =D37 -> 0.06 | F37: =E37 -> 0.06 | G37: =F37 -> 0.06 | H37: =G37 -> 0.06 | I37: =H37 -> 0.06 | J37: =I37 -> 0.06 | K37: =J37 -> 0.06 | ... O37: =N37 -> 0.06
B40: 5 - Os custos administrativos
B41: Despesas vendas, gerais e administrativas | C41: 0.1 | D41: =C41 -> 0.1 | E41: =D41 -> 0.1 | F41: =E41 -> 0.1 | G41: =F41 -> 0.1 | H41: =G41 -> 0.1 | I41: =H41 -> 0.1 | J41: =I41 -> 0.1 | K41: =J41 -> 0.1 | ... O41: =N41 -> 0.1
B42: Pesquisa e desenvolvimento | C42: 0.4 | D42: =C42 -> 0.4 | E42: =D42 -> 0.4 | F42: =E42 -> 0.4 | G42: 0.03 | H42: =G42 -> 0.03 | I42: =H42 -> 0.03 | J42: =I42 -> 0.03 | K42: =J42 -> 0.03 | L42: =K42 -> 0.03 | M42: =L42 -> 0.03 | N42: =M42 -> 0.03 | O42: =N42 -> 0.03
B43: Participação dos empregados nos resultados | C43: 0.03 | D43: =C43 -> 0.03 | E43: =D43 -> 0.03 | F43: =E43 -> 0.03 | G43: =F43 -> 0.03 | H43: =G43 -> 0.03 | I43: =H43 -> 0.03 | J43: =I43 -> 0.03 | K43: =J43 -> 0.03 | ... O43: =N43 -> 0.03
B44: Outros | C44: 0.02 | D44: =C44 -> 0.02 | E44: =D44 -> 0.02 | F44: =E44 -> 0.02 | G44: =F44 -> 0.02 | H44: =G44 -> 0.02 | I44: =H44 -> 0.02 | J44: =I44 -> 0.02 | K44: =J44 -> 0.02 | ... O44: =N44 -> 0.02
B46: 6 - O imobilizado (bruto) deprecia-se a | C46: 0.05 | D46: =C46 -> 0.05 | E46: =D46 -> 0.05 | F46: =E46 -> 0.05 | G46: =F46 -> 0.05 | H46: =G46 -> 0.05 | I46: =H46 -> 0.05 | J46: =I46 -> 0.05 | K46: =J46 -> 0.05 | ... O46: =N46 -> 0.05
B47: 7 - Alíquota de IR e CSLL | C47: 0.25 | D47: 0.34 | E47: =D47 -> 0.34 | F47: =E47 -> 0.34 | G47: =F47 -> 0.34 | H47: =G47 -> 0.34 | I47: =H47 -> 0.34 | J47: =I47 -> 0.34 | K47: =J47 -> 0.34 | L47: =K47 -> 0.34 | ... O47: =N47 -> 0.34
B48: 8 - Média dos anos 2002 a 2004
B49: Estoques | C49: =AVERAGE('13-Ciclo'!D9:F9) -> 59.821742 | D49: =C49 -> 59.821742 | E49: =D49 -> 59.821742 | F49: =E49 -> 59.821742 | G49: =F49 -> 59.821742 | H49: =G49 -> 59.821742 | I49: =H49 -> 59.821742 | J49: =I49 -> 59.821742 | K49: =J49 -> 59.821742 | ... O49: =N49 -> 59.821742
B50: Contas a Receber | C50: =AVERAGE('13-Ciclo'!D10:F10) -> 50.761503 | D50: =C50 -> 50.761503 | E50: =D50 -> 50.761503 | F50: =E50 -> 50.761503 | G50: =F50 -> 50.761503 | H50: =G50 -> 50.761503 | I50: =H50 -> 50.761503 | J50: =I50 -> 50.761503 | K50: =J50 -> 50.761503 | ... O50: =N50 -> 50.761503
...

Sheet 3-Balanço
A1: Voltar índice
A2: BALANÇO PATRIMONIAL
A3: Exercícios findos em 31 de dezembro | P3: (Coloque aqui Logotipo)
B5: =DATE(YEAR(C5)-1,12,31) -> 41274 | C5: =DATE(YEAR(D5)-1,12,31) -> 41639 | D5: =DATE(Início!H10,12,31) -> 42004 | E5: =DATE(YEAR(D5)+1,12,31) -> 42369 | F5: =DATE(YEAR(E5)+1,12,31) -> 42735 | G5: =DATE(YEAR(F5)+1,12,31) -> 43100 | H5: =DATE(YEAR(G5)+1,12,31) -> 43465 | I5: =DATE(YEAR(H5)+1,12,31) -> 43830 | J5: =DATE(YEAR(I5)+1,12,31) -> 44196 | K5: =DATE(YEAR(J5)+1,12,31) -> 44561 | L5: =DATE(YEAR(K5)+1,12,31) -> 44926 | ... Q5: =DATE(YEAR(P5)+1,12,31) -> 46752
A6: A T I V O
A7: CIRCULANTE
A8: Disponíveis | B8: 1091 | C8: 585 | D8: 1249 | E8: ='5-FC'!C61 -> 533.88662 | F8: ='5-FC'!D61 -> 748.71051 | G8: ='5-FC'!E61 -> 2291.4635 | H8: ='5-FC'!F61 -> 4519.7571 | I8: ='5-FC'!G61 -> 1149.8631 | J8: ='5-FC'!H61 -> 263.20252 | K8: ='5-FC'!I61 -> 885.67264 | L8: ='5-FC'!J61 -> 1992.3077 | ... Q8: ='5-FC'!O61 -> 19372.731 | BV8: =B8-C8 -> 506 | BW8: =C8-D8 -> -664
A9: Clientes | B9: 660 | C9: 818 | D9: 1029 | E9: ='13-Ciclo'!G9/360*'4-DRE'!C19 -> 2262.3439 | F9: ='13-Ciclo'!H9/360*'4-DRE'!D19 -> 2658.0387 | G9: ='13-Ciclo'!I9/360*'4-DRE'!E19 -> 3038.2386 | H9: ='13-Ciclo'!J9/360*'4-DRE'!F19 -> 3441.6107 | I9: ='13-Ciclo'!K9/360*'4-DRE'!G19 -> 3908.4062 | J9: ='13-Ciclo'!L9/360*'4-DRE'!H19 -> 4443.4257 | K9: ='13-Ciclo'!M9/360*'4-DRE'!I19 -> 4516.854 | L9: ='13-Ciclo'!N9/360*'4-DRE'!J19 -> 4596.7742 | ... Q9: ='13-Ciclo'!S9/360*'4-DRE'!O19 -> 6542.535 | BV9: =B9-C9 -> -158 | BW9: =C9-D9 -> -211
A10: Empréstimos e adiantamentos | B10: 49 | C10: 56 | D10: 56 | E10: 56 | F10: 56 | G10: 56 | H10: 56 | I10: 56 | J10: 56 | K10: 56 | L10: 56 | M10: 56 | N10: 56 | O10: 56 | P10: 56 | Q10: 56 | BV10: =B10-C10 -> -7 | BW10: =C10-D10 -> 0
A11: Estoques | B11: 292 | C11: 505 | D11: 849 | E11: ='13-Ciclo'!G9/360*-'4-DRE'!C28 -> 779.1188 | F11: ='13-Ciclo'!H9/360*-'4-DRE'!D28 -> 878.33156 | G11: ='13-Ciclo'!I9/360*-'4-DRE'!E28 -> 1012.4756 | H11: ='13-Ciclo'!J9/360*-'4-DRE'!F28 -> 1156.4358 | I11: ='13-Ciclo'!K9/360*-'4-DRE'!G28 -> 1322.6612 | J11: ='13-Ciclo'!L9/360*-'4-DRE'!H28 -> 1514.7324 | K11: ='13-Ciclo'!M9/360*-'4-DRE'!I28 -> 1608.7523 | L11: ='13-Ciclo'!N9/360*-'4-DRE'!J28 -> 1708.6896 | ... Q11: ='13-Ciclo'!S9/360*-'4-DRE'!O28 -> 2600.557 | BV11: =B11-C11 -> -213 | BW11: =C11-D11 -> -344
A12: Imposto de renda diferido | B12: 211 | C12: 91 | D12: 203 | E12: 203 | F12: 203 | G12: 203 | H12: 203 | I12: 203 | J12: 203 | K12: 203 | L12: 203 | M12: 203 | N12: 203 | O12: 203 | P12: 203 | Q12: 203 | BV12: =B12-C12 -> 120 | BW12: =C12-D12 -> -112
A13: Impostos a recuperar | C13: 214 | D13: 285 | E13: 285 | F13: 285 | G13: 285 | H13: 285 | I13: 285 | J13: 285 | K13: 285 | L13: 285 | M13: 285 | N13: 285 | O13: 285 | P13: 285 | Q13: 285 | BV13: =B13-C13 -> -214 | BW13: =C13-D13 -> -71
A14: Outros circulantes | B14: 286 | C14: 205 | D14: 219 | E14: 219 | F14: 219 | G14: 219 | H14: 219 | I14: 219 | J14: 219 | K14: 219 | L14: 219 | M14: 219 | N14: 219 | O14: 219 | P14: 219 | Q14: 219 | BV14: =B14-C14 -> 81 | BW14: =C14-D14 -> -14
A15: Total CIRCULANTE | B15: =B8+B9+B10+B11+B12+B13+B14 -> 2589 | C15: =C8+C9+C10+C11+C12+C13+C14 -> 2474 | D15: =D8+D9+D10+D11+D12+D13+D14 -> 3890 | E15: =E8+E9+E10+E11+E12+E13+E14 -> 4338.3493 | F15: =F8+F9+F10+F11+F12+F13+F14 -> 5048.0808 | G15: =G8+G9+G10+G11+G12+G13+G14 -> 7105.1777 | H15: =H8+H9+H10+H11+H12+H13+H14 -> 9880.8036 | I15: =I8+I9+I10+I11+I12+I13+I14 -> 7143.9306 | ... Q15: =Q8+Q9+Q10+Q11+Q12+Q13+Q14 -> 29278.823
A17: REALIZÁVEL A L. PRAZO
A19: PERMANENTE
A20: Investimentos | B20: 732 | C20: 1034 | D20: 1159 | E20: 1159 | F20: =E20 -> 1159 | G20: =F20 -> 1159 | H20: =G20 -> 1159 | I20: =H20 -> 1159 | J20: =I20 -> 1159 | K20: =J20 -> 1159 | L20: =K20 -> 1159 | M20: =L20 -> 1159 | ... Q20: =P20 -> 1159 | BV20: =B20-C20 -> -302 | BW20: =C20-D20 -> -125
A21: Imobilizado | B21: 5093 | C21: 9306 | D21: 12812 | E21: =D21+'2-Premissas'!C70 -> 14812 | F21: =E21+'2-Premissas'!D70 -> 16812 | G21: =F21+'2-Premissas'!E70 -> 18312 | H21: =G21+'2-Premissas'!F70 -> 19812 | I21: =H21+'2-Premissas'!G70 -> 23642 | J21: =I21+'2-Premissas'!H70 -> 27472 | K21: =J21+'2-Premissas'!I70 -> 31302 | L21: =K21+'2-Premissas'!J70 -> 35132 | ... Q21: =P21+'2-Premissas'!O70 -> 54282 | BV21: =B21-C21 -> -4213 | BW21: =C21-D21 -> -3506
A22: (-) Depreciação Acumulada | B22: -1796 | C22: -2822 | D22: -3749 | E22: =D22+'4-DRE'!C36 -> -4389.6 | F22: =E22+'4-DRE'!D36 -> -5130.2 | G22: =F22+'4-DRE'!E36 -> -5970.8 | H22: =G22+'4-DRE'!F36 -> -6886.4 | I22: =H22+'4-DRE'!G36 -> -7877 | J22: =I22+'4-DRE'!H36 -> -9059.1 | K22: =J22+'4-DRE'!I36 -> -10432.7 | L22: =K22+'4-DRE'!J36 -> -11997.8 | ... Q22: =P22+'4-DRE'!O36 -> -22695.8
A23: Diferido
A24: TOTAL PERMANENTE | B24: =SUM(B20:B23) -> 4029 | C24: =SUM(C20:C23) -> 7518 | D24: =SUM(D20:D23) -> 10222 | E24: =SUM(E20:E23) -> 11581.4 | F24: =SUM(F20:F23) -> 12840.8 | G24: =SUM(G20:G23) -> 13500.2 | H24: =SUM(H20:H23) -> 14084.6 | I24: =SUM(I20:I23) -> 16924 | ... Q24: =SUM(Q20:Q23) -> 32745.2
A26: OUTROS ATIVOS
A27: Ágio na aquisição de controladas | B27: 412 | C27: 451 | D27: 486 | E27: 486 | F27: 486 | G27: 486 | H27: 486 | I27: 486 | J27: 486 | K27: 486 | L27: 486 | M27: 486 | N27: 486 | O27: 486 | P27: 486 | Q27: 486 | BV27: =B27-C27 -> -39 | BW27: =C27-D27 -> -35
A28: Empréstimos e adiantamentos | B28: =SUM(B29:B30) -> 162 | C28: =SUM(C29:C30) -> 108 | D28: =SUM(D29:D30) -> 111 | E28: =SUM(E29:E30) -> 111 | F28: =SUM(F29:F30) -> 111 | G28: =SUM(G29:G30) -> 111 | H28: =SUM(H29:H30) -> 111 | I28: =SUM(I29:I30) -> 111 | ... Q28: =SUM(Q29:Q30) -> 111 | BV28: =B28-C28 -> 54 | BW28: =C28-D28 -> -3
A29: Partes relacionadas | B29: 89 | C29: 40 | D29: 55 | E29: 55 | F29: 55 | G29: 55 | H29: 55 | I29: 55 | J29: 55 | K29: 55 | L29: 55 | M29: 55 | N29: 55 | O29: 55 | P29: 55 | Q29: 55
A30: Outros | B30: 73 | C30: 68 | D30: 56 | E30: 56 | F30: 56 | G30: 56 | H30: 56 | I30: 56 | J30: 56 | K30: 56 | L30: 56 | M30: 56 | N30: 56 | O30: 56 | P30: 56 | Q30: 56
A31: Custo de pensão pago antecipadamente | B31: 79 | C31: 82 | D31: 170 | E31: 170 | F31: 170 | G31: 170 | H31: 170 | I31: 170 | J31: 170 | K31: 170 | L31: 170 | M31: 170 | N31: 170 | O31: 170 | P31: 170 | Q31: 170 | BV31: =B31-C31 -> -3 | BW31: =C31-D31 -> -88
A32: Imposto de renda diferido | B32: 358 | C32: 234 | D32: 70 | E32: 70 | F32: 70 | G32: 70 | H32: 70 | I32: 70 | J32: 70 | K32: 70 | L32: 70 | M32: 70 | N32: 70 | O32: 70 | P32: 70 | Q32: 70 | BV32: =B32-C32 -> 124 | BW32: =C32-D32 -> 164
A33: Depósitos judiciais | B33: 239 | C33: 407 | D33: 531 | E33: 531 | F33: 531 | G33: 531 | H33: 531 | I33: 531 | J33: 531 | K33: 531 | L33: 531 | M33: 531 | N33: 531 | O33: 531 | P33: 531 | Q33: 531 | BV33: =B33-C33 -> -168 | BW33: =C33-D33 -> -124
A34: Ganhos não realizados | B34: 3 | C34: 5 | D34: 4 | E34: 4 | F34: 4 | G34: 4 | H34: 4 | I34: 4 | J34: 4 | K34: 4 | L34: 4 | M34: 4 | N34: 4 | O34: 4 | P34: 4 | Q34: 4 | BV34: =B34-C34 -> -2 | BW34: =C34-D34 -> 1
A35: Outros | B35: 84 | C35: 155 | D35: 231 | E35: 231 | F35: 231 | G35: 231 | H35: 231 | I35: 231 | J35: 231 | K35: 231 | L35: 231 | M35: 231 | N35: 231 | O35: 231 | P35: 231 | Q35: 231 | BV35: =B35-C35 -> -71 | BW35: =C35-D35 -> -76
A36: TOTAL OUTROS ATIVOS | B36: =B27+B28+B31+B32+B33+B34+B35 -> 1337 | C36: =C27+C28+C31+C32+C33+C34+C35 -> 1442 | D36: =D27+D28+D31+D32+D33+D34+D35 -> 1603 | E36: =E27+E28+E31+E32+E33+E34+E35 -> 1603 | F36: =F27+F28+F31+F32+F33+F34+F35 -> 1603 | G36: =G27+G28+G31+G32+G33+G34+G35 -> 1603 | H36: =H27+H28+H31+H32+H33+H34+H35 -> 1603 | I36: =I27+I28+I31+I32+I33+I34+I35 -> 1603 | ... Q36: =Q27+Q28+Q31+Q32+Q33+Q34+Q35 -> 1603
A38: T O T A L A T I V O | B38: =SUM(B15+B17+B24+B36) -> 7955 | C38: =SUM(C15+C17+C24+C36) -> 11434 | D38: =SUM(D15+D17+D24+D36) -> 15715 | E38: =SUM(E15+E17+E24+E36) -> 17522.749 | F38: =SUM(F15+F17+F24+F36) -> 19491.881 | G38: =SUM(G15+G17+G24+G36) -> 22208.378 | H38: =SUM(H15+H17+H24+H36) -> 25568.404 | I38: =SUM(I15+I17+I24+I36) -> 25670.931 | ... Q38: =SUM(Q15+Q17+Q24+Q36) -> 63627.023 | BV38: =SUM(BV8:BV37) -> -4505 | BW38: =SUM(BW8:BW37) -> -5208
BV39: =C39-BV38 -> 4505 | BW39: =D39-BW38 -> 5208
A40: P A S S I V O
A42: CIRCULANTE
A43: Fornecedores | B43: 365 | C43: 482 | D43: 689 | E43: ='2-Premissas'!C51/360*'13-Ciclo'!G22 -> 713.60612 | F43: ='2-Premissas'!D51/360*'13-Ciclo'!H22 -> 831.97666 | G43: ='2-Premissas'!E51/360*'13-Ciclo'!I22 -> 962.09702 | H43: ='2-Premissas'!F51/360*'13-Ciclo'!J22 -> 1097.4638 | I43: ='2-Premissas'!G51/360*'13-Ciclo'!K22 -> 1255.4555 | J43: ='2-Premissas'!H51/360*'13-Ciclo'!L22 -> 1438.0311 | K43: ='2-Premissas'!I51/360*'13-Ciclo'!M22 -> 1510.2992 | L43: ='2-Premissas'!J51/360*'13-Ciclo'!N22 -> 1604.1323 | ... Q43: ='2-Premissas'!O51/360*'13-Ciclo'!S22 -> 2450.3625 | BV43: =C43-B43 -> 117 | BW43: =D43-C43 -> 207
A44: Salários/Encargos Sociais | B44: 76 | C44: 78 | D44: 141 | E44: =D44*(1+'2-Premissas'!C53) -> 155.1 | F44: =E44*(1+'2-Premissas'!D53) -> 170.61 | G44: =F44*(1+'2-Premissas'!E53) -> 187.671 | H44: =G44*(1+'2-Premissas'!F53) -> 206.4381 | I44: =H44*(1+'2-Premissas'!G53) -> 227.08191 | J44: =I44*(1+'2-Premissas'!H53) -> 249.7901 | K44: =J44*(1+'2-Premissas'!I53) -> 274.76911 | L44: =K44*(1+'2-Premissas'!J53) -> 302.24602 | ... Q44: =P44*(1+'2-Premissas'!O53) -> 486.77024 | BV44: =C44-B44 -> 2 | BW44: =D44-C44 -> 63
A45: Juros sobre capital próprio | B45: 3 | C45: 118 | D45: 11 | E45: 11 | F45: 11 | G45: 11 | H45: 11 | I45: 11 | J45: 11 | K45: 11 | L45: 11 | M45: 11 | N45: 11 | O45: 11 | P45: 11 | Q45: 11 | BV45: =C45-B45 -> 115 | BW45: =D45-C45 -> -107
A46: Parcela Circulante de empréstimos e financiamentos de LP | B46: 717 | C46: 1009 | D46: 730 | E46: =-'9-Financiamentos'!D32 -> 696 | F46: =-'9-Financiamentos'!E32 -> 505 | G46: =-'9-Financiamentos'!F32 -> 449 | H46: =-'9-Financiamentos'!G32 -> 1935.4 | I46: =-'9-Financiamentos'!H32 -> 781.6 | J46: =-'9-Financiamentos'!I32 -> 863.8 | K46: =-'9-Financiamentos'!J32 -> 863.8 | L46: =-'9-Financiamentos'!K32 -> 910 | ... Q46: =-'9-Financiamentos'!P32 -> 562.6 | BV46: =C46-B46 -> 292 | BW46: =D46-C46 -> -279
...

Sheet 4-DRE
A1: Voltar índice
A2: DEMONSTRAÇÃO DO RESULTADO
A3: Exercícios findos em 31 de dezembro | N3: (Coloque aqui Logotipo)
B5: =+'3-Balanço'!D5 -> 42004 | C5: =+'3-Balanço'!E5 -> 42369 | D5: =+'3-Balanço'!F5 -> 42735 | E5: =+'3-Balanço'!G5 -> 43100 | F5: =+'3-Balanço'!H5 -> 43465 | G5: =+'3-Balanço'!I5 -> 43830 | H5: =+'3-Balanço'!J5 -> 44196 | I5: =+'3-Balanço'!K5 -> 44561 | ... O5: =+'3-Balanço'!Q5 -> 46752
A6: RECEITAS BRUTAS
A7: Vendas de minerais e metais
A8: Minério de ferro e pelotas | B8: 5143 | C8: =B8*(1+'2-Premissas'!C7)*(1+'2-Premissas'!C19) -> 9790.4719 | D8: =C8*(1+'2-Premissas'!D7)*(1+'2-Premissas'!D19) -> 11621.388 | E8: =D8*(1+'2-Premissas'!E7)*(1+'2-Premissas'!E19) -> 13617.943 | F8: =E8*(1+'2-Premissas'!F7)*(1+'2-Premissas'!F19) -> 15728.724 | G8: =F8*(1+'2-Premissas'!G7)*(1+'2-Premissas'!G19) -> 18166.676 | H8: =G8*(1+'2-Premissas'!H7)*(1+'2-Premissas'!H19) -> 20982.511 | I8: =H8*(1+'2-Premissas'!I7)*(1+'2-Premissas'!I19) -> 20984.819 | J8: =I8*(1+'2-Premissas'!J7)*(1+'2-Premissas'!J19) -> 20987.127 | ... O8: =N8*(1+'2-Premissas'!O7)*(1+'2-Premissas'!O19) -> 29576.021
A9: Manganês e ferro ligas | B9: 701 | C9: =B9*(1+'2-Premissas'!C8)*(1+'2-Premissas'!C20) -> 863.632 | D9: =C9*(1+'2-Premissas'!D8)*(1+'2-Premissas'!D20) -> 924.94987 | E9: =D9*(1+'2-Premissas'!E8)*(1+'2-Premissas'!E20) -> 990.62131 | F9: =E9*(1+'2-Premissas'!F8)*(1+'2-Premissas'!F20) -> 1060.9554 | G9: =F9*(1+'2-Premissas'!G8)*(1+'2-Premissas'!G20) -> 1147.4233 | H9: =G9*(1+'2-Premissas'!H8)*(1+'2-Premissas'!H20) -> 1240.9383 | I9: =H9*(1+'2-Premissas'!I8)*(1+'2-Premissas'!I20) -> 1342.0748 | J9: =I9*(1+'2-Premissas'!J8)*(1+'2-Premissas'!J20) -> 1451.4539 | ... O9: =N9*(1+'2-Premissas'!O8)*(1+'2-Premissas'!O20) -> 2147.5133
A10: Ouro | B10: 0 | C10: =B10*(1+'2-Premissas'!C9)*(1+'2-Premissas'!C21) -> 0 | D10: =C10*(1+'2-Premissas'!D9)*(1+'2-Premissas'!D21) -> 0 | E10: =D10*(1+'2-Premissas'!E9)*(1+'2-Premissas'!E21) -> 0 | F10: =E10*(1+'2-Premissas'!F9)*(1+'2-Premissas'!F21) -> 0 | G10: =F10*(1+'2-Premissas'!G9)*(1+'2-Premissas'!G21) -> 0 | H10: =G10*(1+'2-Premissas'!H9)*(1+'2-Premissas'!H21) -> 0 | I10: =H10*(1+'2-Premissas'!I9)*(1+'2-Premissas'!I21) -> 0 | J10: =I10*(1+'2-Premissas'!J9)*(1+'2-Premissas'!J21) -> 0 | ... O10: =N10*(1+'2-Premissas'!O9)*(1+'2-Premissas'!O21) -> 0
A11: Potássio | B11: 124 | C11: =B11*(1+'2-Premissas'!C10)*(1+'2-Premissas'!C22) -> 134.106 | D11: =C11*(1+'2-Premissas'!D10)*(1+'2-Premissas'!D22) -> 145.03564 | E11: =D11*(1+'2-Premissas'!E10)*(1+'2-Premissas'!E22) -> 156.85604 | F11: =E11*(1+'2-Premissas'!F10)*(1+'2-Premissas'!F22) -> 169.63981 | G11: =F11*(1+'2-Premissas'!G10)*(1+'2-Premissas'!G22) -> 183.46546 | H11: =G11*(1+'2-Premissas'!H10)*(1+'2-Premissas'!H22) -> 198.41789 | I11: =H11*(1+'2-Premissas'!I10)*(1+'2-Premissas'!I22) -> 214.58895 | J11: =I11*(1+'2-Premissas'!J10)*(1+'2-Premissas'!J22) -> 232.07795 | ... O11: =N11*(1+'2-Premissas'!O10)*(1+'2-Premissas'!O22) -> 343.37328
A12: Caulim | B12: 164 | C12: =B12*(1+'2-Premissas'!C11)*(1+'2-Premissas'!C23) -> 177.366 | D12: =C12*(1+'2-Premissas'!D11)*(1+'2-Premissas'!D23) -> 188.16759 | E12: =D12*(1+'2-Premissas'!E11)*(1+'2-Premissas'!E23) -> 199.627 | F12: =E12*(1+'2-Premissas'!F11)*(1+'2-Premissas'!F23) -> 209.72812 | G12: =F12*(1+'2-Premissas'!G11)*(1+'2-Premissas'!G23) -> 218.18016 | H12: =G12*(1+'2-Premissas'!H11)*(1+'2-Premissas'!H23) -> 226.97283 | I12: =H12*(1+'2-Premissas'!I11)*(1+'2-Premissas'!I23) -> 236.11983 | J12: =I12*(1+'2-Premissas'!J11)*(1+'2-Premissas'!J23) -> 245.63546 | ... O12: =N12*(1+'2-Premissas'!O11)*(1+'2-Premissas'!O23) -> 299.28438
A13: Cobre | B13: 201 | C13: =B13*(1+'2-Premissas'!C12)*(1+'2-Premissas'!C24) -> 375.87 | D13: =C13*(1+'2-Premissas'!D12)*(1+'2-Premissas'!D24) -> 357.08007 | E13: =D13*(1+'2-Premissas'!E12)*(1+'2-Premissas'!E24) -> 339.22946 | F13: =E13*(1+'2-Premissas'!F12)*(1+'2-Premissas'!F24) -> 322.27121 | G13: =F13*(1+'2-Premissas'!G12)*(1+'2-Premissas'!G24) -> 322.27443 | H13: =G13*(1+'2-Premissas'!H12)*(1+'2-Premissas'!H24) -> 322.27765 | I13: =H13*(1+'2-Premissas'!I12)*(1+'2-Premissas'!I24) -> 322.28088 | J13: =I13*(1+'2-Premissas'!J12)*(1+'2-Premissas'!J24) -> 322.2841 | ... O13: =N13*(1+'2-Premissas'!O12)*(1+'2-Premissas'!O24) -> 322.30021
A14: Total Vendas de minerais e metais | B14: =SUM(B8:B13) -> 6333 | C14: =SUM(C8:C13) -> 11341.446 | D14: =SUM(D8:D13) -> 13236.621 | E14: =SUM(E8:E13) -> 15304.276 | F14: =SUM(F8:F13) -> 17491.318 | G14: =SUM(G8:G13) -> 20038.019 | H14: =SUM(H8:H13) -> 22971.117 | I14: =SUM(I8:I13) -> 23099.883 | ... O14: =SUM(O8:O13) -> 32688.492
A16: Receitas de serviços de logística | B16: 877 | C16: =B16*(1+'2-Premissas'!C14)*(1+'2-Premissas'!C26) -> 939.267 | D16: =C16*(1+'2-Premissas'!D14)*(1+'2-Premissas'!D26) -> 1005.955 | E16: =D16*(1+'2-Premissas'!E14)*(1+'2-Premissas'!E26) -> 1046.5955 | F16: =E16*(1+'2-Premissas'!F14)*(1+'2-Premissas'!F26) -> 1088.878 | G16: =F16*(1+'2-Premissas'!G14)*(1+'2-Premissas'!G26) -> 1132.8687 | H16: =G16*(1+'2-Premissas'!H14)*(1+'2-Premissas'!H26) -> 1178.6366 | I16: =H16*(1+'2-Premissas'!I14)*(1+'2-Premissas'!I26) -> 1226.2535 | J16: =I16*(1+'2-Premissas'!J14)*(1+'2-Premissas'!J26) -> 1275.7941 | ... O16: =N16*(1+'2-Premissas'!O14)*(1+'2-Premissas'!O26) -> 1555.1859
A17: Produtos de alumínio | B17: 1250 | C17: =B17*(1+'2-Premissas'!C15)*(1+'2-Premissas'!C27) -> 1313.25 | D17: =C17*(1+'2-Premissas'!D15)*(1+'2-Premissas'!D27) -> 1723.6406 | E17: =D17*(1+'2-Premissas'!E15)*(1+'2-Premissas'!E27) -> 1900.3138 | F17: =E17*(1+'2-Premissas'!F15)*(1+'2-Premissas'!F27) -> 2095.096 | G17: =F17*(1+'2-Premissas'!G15)*(1+'2-Premissas'!G27) -> 2309.8433 | H17: =G17*(1+'2-Premissas'!H15)*(1+'2-Premissas'!H27) -> 2546.6022 | I17: =H17*(1+'2-Premissas'!I15)*(1+'2-Premissas'!I27) -> 2807.629 | J17: =I17*(1+'2-Premissas'!J15)*(1+'2-Premissas'!J27) -> 3095.4109 | ... O17: =N17*(1+'2-Premissas'!O15)*(1+'2-Premissas'!O27) -> 5042.0982
A18: Outros produtos e serviços | B18: 19 | C18: =B18*(1+'2-Premissas'!C16)*(1+'2-Premissas'!C28) -> 20.5485 | D18: =C18*(1+'2-Premissas'!D16)*(1+'2-Premissas'!D28) -> 29.538469 | E18: =D18*(1+'2-Premissas'!E16)*(1+'2-Premissas'!E28) -> 32.566162 | F18: =E18*(1+'2-Premissas'!F16)*(1+'2-Premissas'!F28) -> 35.904193 | G18: =F18*(1+'2-Premissas'!G16)*(1+'2-Premissas'!G28) -> 39.584373 | H18: =G18*(1+'2-Premissas'!H16)*(1+'2-Premissas'!H28) -> 43.641771 | I18: =H18*(1+'2-Premissas'!I16)*(1+'2-Premissas'!I28) -> 48.115053 | J18: =I18*(1+'2-Premissas'!J16)*(1+'2-Premissas'!J28) -> 53.046846 | ... O18: =N18*(1+'2-Premissas'!O16)*(1+'2-Premissas'!O28) -> 86.407722
A19: TOTAL RECEITAS BRUTAS | B19: =B14+B16+B17+B18 -> 8479 | C19: =C14+C16+C17+C18 -> 13614.511 | D19: =D14+D16+D17+D18 -> 15995.755 | E19: =E14+E16+E17+E18 -> 18283.752 | F19: =F14+F16+F17+F18 -> 20711.196 | G19: =G14+G16+G17+G18 -> 23520.316 | H19: =H14+H16+H17+H18 -> 26739.998 | I19: =I14+I16+I17+I18 -> 27181.881 | ... O19: =O14+O16+O17+O18 -> 39372.184
A21: Impostos sobre vendas e serviços | B21: -413 | C21: =-C19*'2-Premissas'!C30 -> -680.72557 | D21: =-D19*'2-Premissas'!D30 -> -799.78777 | E21: =-E19*'2-Premissas'!E30 -> -914.18759 | F21: =-F19*'2-Premissas'!F30 -> -1035.5598 | G21: =-G19*'2-Premissas'!G30 -> -1176.0158 | H21: =-H19*'2-Premissas'!H30 -> -1336.9999 | I21: =-I19*'2-Premissas'!I30 -> -1359.094 | J21: =-J19*'2-Premissas'!J30 -> -1383.1415 | ... O21: =-O19*'2-Premissas'!O30 -> -1968.6092
A22: RECEITA OPERACIONAL LÍQUIDA | B22: =+B14+B16+B17+B18+B21 -> 8066 | C22: =B22+B22*$C$62 -> 9298.0493 | D22: =C22+C22*$C$62 -> 10718.289 | E22: =D22+D22*$C$62 -> 12355.465 | F22: =E22+E22*$C$62 -> 14242.713 | G22: =F22+F22*$C$62 -> 16418.231 | H22: =G22+G22*$C$62 -> 18926.05 | I22: =H22+H22*$C$62 -> 21816.928 | J22: =I22+I22*$C$62 -> 25149.377 | ... O22: =N22+N22*$C$62 -> 51191.206
A23: (-) CUSTOS OPERACIONAIS
A24: de minerais e metais | B24: -2881 | C24: =B24*(1+'2-Premissas'!C34)*(1+'2-Premissas'!C7) -> -3389.7846 | D24: =C24*(1+'2-Premissas'!D34)*(1+'2-Premissas'!D7) -> -3877.3916 | E24: =D24*(1+'2-Premissas'!E34)*(1+'2-Premissas'!E7) -> -4586.7991 | F24: =E24*(1+'2-Premissas'!F34)*(1+'2-Premissas'!F7) -> -5348.2078 | G24: =F24*(1+'2-Premissas'!G34)*(1+'2-Premissas'!G7) -> -6236.0103 | H24: =G24*(1+'2-Premissas'!H34)*(1+'2-Premissas'!H7) -> -7271.188 | I24: =H24*(1+'2-Premissas'!I34)*(1+'2-Premissas'!I7) -> -7707.5363 | J24: =I24*(1+'2-Premissas'!J34)*(1+'2-Premissas'!J7) -> -8170.0702 | ... O24: =N24*(1+'2-Premissas'!O34)*(1+'2-Premissas'!O7) -> -12674.804
A25: de serviços de logística | B25: -513 | C25: =B25*(1+'2-Premissas'!C35)*(1+'2-Premissas'!C14) -> -570.969 | D25: =C25*(1+'2-Premissas'!D35)*(1+'2-Premissas'!D14) -> -635.4885 | E25: =D25*(1+'2-Premissas'!E35)*(1+'2-Premissas'!E14) -> -687.09016 | F25: =E25*(1+'2-Premissas'!F35)*(1+'2-Premissas'!F14) -> -742.88188 | G25: =F25*(1+'2-Premissas'!G35)*(1+'2-Premissas'!G14) -> -803.20389 | H25: =G25*(1+'2-Premissas'!H35)*(1+'2-Premissas'!H14) -> -868.42405 | I25: =H25*(1+'2-Premissas'!I35)*(1+'2-Premissas'!I14) -> -938.94008 | J25: =I25*(1+'2-Premissas'!J35)*(1+'2-Premissas'!J14) -> -1015.182 | ... O25: =N25*(1+'2-Premissas'!O35)*(1+'2-Premissas'!O14) -> -1499.9407
A26: de produtos de alumínio | B26: -674 | C26: =B26*(1+'2-Premissas'!C36)+(1+'2-Premissas'!C15) -> -713.42 | D26: =C26*(1+'2-Premissas'!D36)+(1+'2-Premissas'!D15) -> -755.1752 | E26: =D26*(1+'2-Premissas'!E36)+(1+'2-Premissas'!E15) -> -799.43571 | F26: =E26*(1+'2-Premissas'!F36)+(1+'2-Premissas'!F15) -> -846.35185 | G26: =F26*(1+'2-Premissas'!G36)+(1+'2-Premissas'!G15) -> -896.08297 | H26: =G26*(1+'2-Premissas'!H36)+(1+'2-Premissas'!H15) -> -948.79794 | I26: =H26*(1+'2-Premissas'!I36)+(1+'2-Premissas'!I15) -> -1004.6758 | J26: =I26*(1+'2-Premissas'!J36)+(1+'2-Premissas'!J15) -> -1063.9064 | ... O26: =N26*(1+'2-Premissas'!O36)+(1+'2-Premissas'!O15) -> -1417.8278
A27: outros | B27: -13 | C27: =B27*(1+'2-Premissas'!C37)*(1+'2-Premissas'!C16) -> -14.469 | D27: =C27*(1+'2-Premissas'!D37)*(1+'2-Premissas'!D16) -> -17.637711 | E27: =D27*(1+'2-Premissas'!E37)*(1+'2-Premissas'!E16) -> -19.630772 | F27: =E27*(1+'2-Premissas'!F37)*(1+'2-Premissas'!F16) -> -21.84905 | G27: =F27*(1+'2-Premissas'!G37)*(1+'2-Premissas'!G16) -> -24.317992 | H27: =G27*(1+'2-Premissas'!H37)*(1+'2-Premissas'!H16) -> -27.065925 | I27: =H27*(1+'2-Premissas'!I37)*(1+'2-Premissas'!I16) -> -30.124375 | J27: =I27*(1+'2-Premissas'!J37)*(1+'2-Premissas'!J16) -> -33.528429 | ... O27: =N27*(1+'2-Premissas'!O37)*(1+'2-Premissas'!O16) -> -57.264969
A28: TOTAL CUSTOS OPERACIONAIS | B28: =SUM(B24:B27) -> -4081 | C28: =SUM(C24:C27) -> -4688.6426 | D28: =SUM(D24:D27) -> -5285.693 | E28: =SUM(E24:E27) -> -6092.9558 | F28: =SUM(F24:F27) -> -6959.2906 | G28: =SUM(G24:G27) -> -7959.6151 | H28: =SUM(H24:H27) -> -9115.4759 | I28: =SUM(I24:I27) -> -9681.2766 | ... O28: =SUM(O24:O27) -> -15649.837
A29: LUCRO BRUTO | B29: =+B22+B28 -> 3985 | C29: =+C22+C28 -> 4609.4067 | D29: =+D22+D28 -> 5432.5962 | E29: =+E22+E28 -> 6262.5093 | F29: =+F22+F28 -> 7283.4224 | G29: =+G22+G28 -> 8458.6154 | H29: =+H22+H28 -> 9810.5738 | I29: =+I22+I28 -> 12135.652 | ... O29: =+O22+O28 -> 35541.369
A30: Despesas Operacionais
A31: Despesas vendas, gerais e administrativas | B31: -452 | C31: =B31*(1+'2-Premissas'!C41) -> -497.2 | D31: =C31*(1+'2-Premissas'!D41) -> -546.92 | E31: =D31*(1+'2-Premissas'!E41) -> -601.612 | F31: =E31*(1+'2-Premissas'!F41) -> -661.7732 | G31: =F31*(1+'2-Premissas'!G41) -> -727.95052 | H31: =G31*(1+'2-Premissas'!H41) -> -800.74557 | I31: =H31*(1+'2-Premissas'!I41) -> -880.82013 | J31: =I31*(1+'2-Premissas'!J41) -> -968.90214 | ... O31: =N31*(1+'2-Premissas'!O41) -> -1560.4266
A32: Pesquisa e desenvolvimento | B32: -153 | C32: =B32*(1+'2-Premissas'!C42) -> -214.2 | D32: =C32*(1+'2-Premissas'!D42) -> -299.88 | E32: =D32*(1+'2-Premissas'!E42) -> -419.832 | F32: =E32*(1+'2-Premissas'!F42) -> -587.7648 | G32: =F32*(1+'2-Premissas'!G42) -> -605.39774 | H32: =G32*(1+'2-Premissas'!H42) -> -623.55968 | I32: =H32*(1+'2-Premissas'!I42) -> -642.26647 | J32: =I32*(1+'2-Premissas'!J42) -> -661.53446 | ... O32: =N32*(1+'2-Premissas'!O42) -> -766.89975
A33: Participação dos empregados nos resultados | B33: -69 | C33: =B33*(1+'2-Premissas'!C43) -> -71.07 | D33: =C33*(1+'2-Premissas'!D43) -> -73.2021 | E33: =D33*(1+'2-Premissas'!E43) -> -75.398163 | F33: =E33*(1+'2-Premissas'!F43) -> -77.660108 | G33: =F33*(1+'2-Premissas'!G43) -> -79.989911 | H33: =G33*(1+'2-Premissas'!H43) -> -82.389608 | I33: =H33*(1+'2-Premissas'!I43) -> -84.861297 | J33: =I33*(1+'2-Premissas'!J43) -> -87.407136 | ... O33: =N33*(1+'2-Premissas'!O43) -> -101.32883
A34: Outros | B34: -188 | C34: =B34*(1+'2-Premissas'!C44) -> -191.76 | D34: =C34*(1+'2-Premissas'!D44) -> -195.5952 | E34: =D34*(1+'2-Premissas'!E44) -> -199.5071 | F34: =E34*(1+'2-Premissas'!F44) -> -203.49725 | G34: =F34*(1+'2-Premissas'!G44) -> -207.56719 | H34: =G34*(1+'2-Premissas'!H44) -> -211.71853 | I34: =H34*(1+'2-Premissas'!I44) -> -215.95291 | J34: =I34*(1+'2-Premissas'!J44) -> -220.27196 | ... O34: =N34*(1+'2-Premissas'!O44) -> -243.19805
A35: EBITDA | B35: =SUM(B29:B34)-B36 -> 3522 | C35: =SUM(C29:C34)-C36 -> 4275.7767 | D35: =SUM(D29:D34)-D36 -> 5057.5989 | E35: =SUM(E29:E34)-E36 -> 5806.76 | F35: =SUM(F29:F34)-F36 -> 6668.3271 | G35: =SUM(G29:G34)-G36 -> 7828.3101 | H35: =SUM(H29:H34)-H36 -> 9274.2604 | I35: =SUM(I29:I34)-I36 -> 11685.351 | ... O35: =SUM(O29:O34)-O36 -> 35392.116
A36: ( - ) Depreciação e Amorização | B36: -399 | C36: =-'3-Balanço'!D21*'2-Premissas'!C46 -> -640.6 | D36: =-'3-Balanço'!E21*'2-Premissas'!D46 -> -740.6 | E36: =-'3-Balanço'!F21*'2-Premissas'!E46 -> -840.6 | F36: =-'3-Balanço'!G21*'2-Premissas'!F46 -> -915.6 | G36: =-'3-Balanço'!H21*'2-Premissas'!G46 -> -990.6 | H36: =-'3-Balanço'!I21*'2-Premissas'!H46 -> -1182.1 | I36: =-'3-Balanço'!J21*'2-Premissas'!I46 -> -1373.6 | J36: =-'3-Balanço'!K21*'2-Premissas'!J46 -> -1565.1 | ... O36: =-'3-Balanço'!P21*'2-Premissas'!O46 -> -2522.6
A37: EBIT | B37: =B35+B36 -> 3123 | C37: =C35+C36 -> 3635.1767 | D37: =D35+D36 -> 4316.9989 | E37: =E35+E36 -> 4966.16 | F37: =F35+F36 -> 5752.7271 | G37: =G35+G36 -> 6837.7101 | H37: =H35+H36 -> 8092.1604 | I37: =I35+I36 -> 10311.751 | ... O37: =O35+O36 -> 32869.516
A38: Receitas financeiras | B38: 82 | C38: ='3-Balanço'!D8*'2-Premissas'!C55 -> 124.9 | D38: ='3-Balanço'!E8*'2-Premissas'!D55 -> 53.388662 | E38: ='3-Balanço'!F8*'2-Premissas'!E55 -> 74.871051 | F38: ='3-Balanço'!G8*'2-Premissas'!F55 -> 229.14635 | G38: ='3-Balanço'!H8*'2-Premissas'!G55 -> 451.97571 | H38: ='3-Balanço'!I8*'2-Premissas'!H55 -> 114.98631 | I38: ='3-Balanço'!J8*'2-Premissas'!I55 -> 26.320252 | J38: ='3-Balanço'!K8*'2-Premissas'!J55 -> 88.567264 | ... O38: ='3-Balanço'!P8*'2-Premissas'!O55 -> 1326.2749
A39: Despesas financeiras | B39: -671 | C39: =-('3-Balanço'!D46+'3-Balanço'!D47+'3-Balanço'!D48+'3-Balanço'!D55+'3-Balanço'!D56)*'2-Premissas'!C57 -> -302.35247 | D39: =-('3-Balanço'!E46+'3-Balanço'!E47+'3-Balanço'!E48+'3-Balanço'!E55+'3-Balanço'!E56)*'2-Premissas'!D57 -> -306.62611 | E39: =-('3-Balanço'!F46+'3-Balanço'!F47+'3-Balanço'!F48+'3-Balanço'!F55+'3-Balanço'!F56)*'2-Premissas'!E57 -> -325.77076 | F39: =-('3-Balanço'!G46+'3-Balanço'!G47+'3-Balanço'!G48+'3-Balanço'!G55+'3-Balanço'!G56)*'2-Premissas'!F57 -> -368.17422 | G39: =-('3-Balanço'!H46+'3-Balanço'!H47+'3-Balanço'!H48+'3-Balanço'!H55+'3-Balanço'!H56)*'2-Premissas'!G57 -> -428.38369 | H39: =-('3-Balanço'!I46+'3-Balanço'!I47+'3-Balanço'!I48+'3-Balanço'!I55+'3-Balanço'!I56)*'2-Premissas'!H57 -> -287.10162 | I39: =-('3-Balanço'!J46+'3-Balanço'!J47+'3-Balanço'!J48+'3-Balanço'!J55+'3-Balanço'!J56)*'2-Premissas'!I57 -> -309.17697 | J39: =-('3-Balanço'!K46+'3-Balanço'!K47+'3-Balanço'!K48+'3-Balanço'!K55+'3-Balanço'!K56)*'2-Premissas'!J57 -> -330.54653 | ... O39: =-('3-Balanço'!P46+'3-Balanço'!P47+'3-Balanço'!P48+'3-Balanço'!P55+'3-Balanço'!P56)*'2-Premissas'!O57 -> -129.96857
A40: Ganhos (perdas) cambial e monetária | B40: 65 | C40: 65 | D40: 65 | E40: 65 | F40: 65 | G40: 65 | H40: 65 | I40: 65 | J40: 65 | K40: 65 | L40: 65 | M40: 65 | N40: 65 | O40: 65
A41: Ganhos na venda de investimentos | B41: 404 | C41: 404 | D41: 404 | E41: 404 | F41: 404 | G41: 404 | H41: 404 | I41: 404 | J41: 404 | K41: 404 | L41: 404 | M41: 404 | N41: 404 | O41: 404
A43: LUCRO LÍQ. ANTES IR/CS | B43: =SUM(B37:B42) -> 3003 | C43: =SUM(C37:C42) -> 3926.7242 | D43: =SUM(D37:D42) -> 4532.7615 | E43: =SUM(E37:E42) -> 5184.2603 | F43: =SUM(F37:F42) -> 6082.6992 | G43: =SUM(G37:G42) -> 7330.3021 | H43: =SUM(H37:H42) -> 8389.0451 | I43: =SUM(I37:I42) -> 10497.894 | ... O43: =SUM(O37:O42) -> 34534.822
A44: Imposto de renda
...

Sheet 5-FC
B1: Voltar índice
B2: Demonstrações Consolidadas dos Fluxos de Caixa
B3: Em milhões de dólares norte-americanos | N3: (Coloque aqui Logotipo)
B4: Exercícios findos em 31 de dezembro
C5: =+'3-Balanço'!E5 -> 42369 | D5: =+'3-Balanço'!F5 -> 42735 | E5: =+'3-Balanço'!G5 -> 43100 | F5: =+'3-Balanço'!H5 -> 43465 | G5: =+'3-Balanço'!I5 -> 43830 | H5: =+'3-Balanço'!J5 -> 44196 | I5: =+'3-Balanço'!K5 -> 44561 | J5: =+'3-Balanço'!L5 -> 44926 | ... O5: =+'3-Balanço'!Q5 -> 46752
B7: Fluxos de caixa provenientes das atividades operacionais:
B8: Lucro líquido | C8: ='4-DRE'!C53 -> 2948.0432 | D8: ='4-DRE'!D53 -> 2994.6226 | E8: ='4-DRE'!E53 -> 3424.6118 | F8: ='4-DRE'!F53 -> 4017.5815 | G8: ='4-DRE'!G53 -> 4840.9994 | H8: ='4-DRE'!H53 -> 5539.7698 | I8: ='4-DRE'!I53 -> 6931.6101 | J8: ='4-DRE'!J53 -> 8685.6926 | ... O8: ='4-DRE'!O53 -> 22795.982
B9: Ajustes para reconciliar o lucro líquido com recursos provenientes das atividades operacionais:
B10: Depreciação, exaustão e amortização | C10: =-'4-DRE'!C36 -> 640.6 | D10: =-'4-DRE'!D36 -> 740.6 | E10: =-'4-DRE'!E36 -> 840.6 | F10: =-'4-DRE'!F36 -> 915.6 | G10: =-'4-DRE'!G36 -> 990.6 | H10: =-'4-DRE'!H36 -> 1182.1 | I10: =-'4-DRE'!I36 -> 1373.6 | J10: =-'4-DRE'!J36 -> 1565.1 | ... O10: =-'4-DRE'!O36 -> 2522.6
B11: Redução (aumento) em ativos:
B12: Contas a receber | C12: ='3-Balanço'!D9-'3-Balanço'!E9 -> -1233.3439 | D12: ='3-Balanço'!E9-'3-Balanço'!F9 -> -395.69488 | E12: ='3-Balanço'!F9-'3-Balanço'!G9 -> -380.19983 | F12: ='3-Balanço'!G9-'3-Balanço'!H9 -> -403.37211 | G12: ='3-Balanço'!H9-'3-Balanço'!I9 -> -466.79556 | H12: ='3-Balanço'!I9-'3-Balanço'!J9 -> -535.01946 | I12: ='3-Balanço'!J9-'3-Balanço'!K9 -> -73.428327 | J12: ='3-Balanço'!K9-'3-Balanço'!L9 -> -79.920135 | ... O12: ='3-Balanço'!P9-'3-Balanço'!Q9 -> -492.74743
B13: Estoques | C13: ='3-Balanço'!D11-'3-Balanço'!E11 -> 69.8812 | D13: ='3-Balanço'!E11-'3-Balanço'!F11 -> -99.212758 | E13: ='3-Balanço'!F11-'3-Balanço'!G11 -> -134.14407 | F13: ='3-Balanço'!G11-'3-Balanço'!H11 -> -143.96016 | G13: ='3-Balanço'!H11-'3-Balanço'!I11 -> -166.22544 | H13: ='3-Balanço'!I11-'3-Balanço'!J11 -> -192.07112 | I13: ='3-Balanço'!J11-'3-Balanço'!K11 -> -94.019956 | J13: ='3-Balanço'!K11-'3-Balanço'!L11 -> -99.937274 | ... O13: ='3-Balanço'!P11-'3-Balanço'!Q11 -> -209.94778
B14: Aumento (redução) em passivos:
B15: Fornecedores | C15: ='3-Balanço'!E43-'3-Balanço'!D43 -> 24.606125 | D15: ='3-Balanço'!F43-'3-Balanço'!E43 -> 118.37054 | E15: ='3-Balanço'!G43-'3-Balanço'!F43 -> 130.12036 | F15: ='3-Balanço'!H43-'3-Balanço'!G43 -> 135.36673 | G15: ='3-Balanço'!I43-'3-Balanço'!H43 -> 157.99179 | H15: ='3-Balanço'!J43-'3-Balanço'!I43 -> 182.57556 | I15: ='3-Balanço'!K43-'3-Balanço'!J43 -> 72.268063 | J15: ='3-Balanço'!L43-'3-Balanço'!K43 -> 93.83312 | ... O15: ='3-Balanço'!Q43-'3-Balanço'!P43 -> 197.85167
B16: Salários e encargos sociais | C16: ='3-Balanço'!E44-'3-Balanço'!D44 -> 14.1 | D16: ='3-Balanço'!F44-'3-Balanço'!E44 -> 15.51 | E16: ='3-Balanço'!G44-'3-Balanço'!F44 -> 17.061 | F16: ='3-Balanço'!H44-'3-Balanço'!G44 -> 18.7671 | G16: ='3-Balanço'!I44-'3-Balanço'!H44 -> 20.64381 | H16: ='3-Balanço'!J44-'3-Balanço'!I44 -> 22.708191 | I16: ='3-Balanço'!K44-'3-Balanço'!J44 -> 24.97901 | J16: ='3-Balanço'!L44-'3-Balanço'!K44 -> 27.476911 | ... O16: ='3-Balanço'!Q44-'3-Balanço'!P44 -> 44.25184
B18: D NCG | C18: =SUM(C12:C16) -> -1124.7565 | D18: =SUM(D12:D16) -> -361.0271 | E18: =SUM(E12:E16) -> -367.16255 | F18: =SUM(F12:F16) -> -393.19844 | G18: =SUM(G12:G16) -> -454.3854 | H18: =SUM(H12:H16) -> -521.80683 | I18: =SUM(I12:I16) -> -70.20121 | J18: =SUM(J12:J16) -> -58.547379 | ... O18: =SUM(O12:O16) -> -460.5917
B20: Recursos líquidos provenientes das atividades operacionais | C20: =SUM(C8:C10)+C18 -> 2463.8866 | D20: =SUM(D8:D10)+D18 -> 3374.1955 | E20: =SUM(E8:E10)+E18 -> 3898.0493 | F20: =SUM(F8:F10)+F18 -> 4539.983 | G20: =SUM(G8:G10)+G18 -> 5377.214 | H20: =SUM(H8:H10)+H18 -> 6200.0629 | I20: =SUM(I8:I10)+I18 -> 8235.0089 | J20: =SUM(J8:J10)+J18 -> 10192.245 | ... O20: =SUM(O8:O10)+O18 -> 24857.991
B21: Fluxos de caixa provenientes das atividades de investimento:
B22: Imposto de renda diferido | C22: ='3-Balanço'!D12-'3-Balanço'!E12 -> 0 | D22: ='3-Balanço'!E12-'3-Balanço'!F12 -> 0 | E22: ='3-Balanço'!F12-'3-Balanço'!G12 -> 0 | F22: ='3-Balanço'!G12-'3-Balanço'!H12 -> 0 | G22: ='3-Balanço'!H12-'3-Balanço'!I12 -> 0 | H22: ='3-Balanço'!I12-'3-Balanço'!J12 -> 0 | I22: ='3-Balanço'!J12-'3-Balanço'!K12 -> 0 | J22: ='3-Balanço'!K12-'3-Balanço'!L12 -> 0 | ... O22: ='3-Balanço'!P12-'3-Balanço'!Q12 -> 0
B23: Impostos a recuperar | C23: ='3-Balanço'!D13-'3-Balanço'!E13 -> 0 | D23: ='3-Balanço'!E13-'3-Balanço'!F13 -> 0 | E23: ='3-Balanço'!F13-'3-Balanço'!G13 -> 0 | F23: ='3-Balanço'!G13-'3-Balanço'!H13 -> 0 | G23: ='3-Balanço'!H13-'3-Balanço'!I13 -> 0 | H23: ='3-Balanço'!I13-'3-Balanço'!J13 -> 0 | I23: ='3-Balanço'!J13-'3-Balanço'!K13 -> 0 | J23: ='3-Balanço'!K13-'3-Balanço'!L13 -> 0 | ... O23: ='3-Balanço'!P13-'3-Balanço'!Q13 -> 0
B24: Outros | C24: ='3-Balanço'!D14-'3-Balanço'!E14 -> 0 | D24: ='3-Balanço'!E14-'3-Balanço'!F14 -> 0 | E24: ='3-Balanço'!F14-'3-Balanço'!G14 -> 0 | F24: ='3-Balanço'!G14-'3-Balanço'!H14 -> 0 | G24: ='3-Balanço'!H14-'3-Balanço'!I14 -> 0 | H24: ='3-Balanço'!I14-'3-Balanço'!J14 -> 0 | I24: ='3-Balanço'!J14-'3-Balanço'!K14 -> 0 | J24: ='3-Balanço'!K14-'3-Balanço'!L14 -> 0 | ... O24: ='3-Balanço'!P14-'3-Balanço'!Q14 -> 0
B25: Empréstimos e adiantamentos a receber CP | C25: ='3-Balanço'!D10-'3-Balanço'!E10 -> 0 | D25: ='3-Balanço'!E10-'3-Balanço'!F10 -> 0 | E25: ='3-Balanço'!F10-'3-Balanço'!G10 -> 0 | F25: ='3-Balanço'!G10-'3-Balanço'!H10 -> 0 | G25: ='3-Balanço'!H10-'3-Balanço'!I10 -> 0 | H25: ='3-Balanço'!I10-'3-Balanço'!J10 -> 0 | I25: ='3-Balanço'!J10-'3-Balanço'!K10 -> 0 | J25: ='3-Balanço'!K10-'3-Balanço'!L10 -> 0 | ... O25: ='3-Balanço'!P10-'3-Balanço'!Q10 -> 0
B26: Variações em investimentos | C26: ='3-Balanço'!D20-'3-Balanço'!E20 -> 0 | D26: ='3-Balanço'!E20-'3-Balanço'!F20 -> 0 | E26: ='3-Balanço'!F20-'3-Balanço'!G20 -> 0 | F26: ='3-Balanço'!G20-'3-Balanço'!H20 -> 0 | G26: ='3-Balanço'!H20-'3-Balanço'!I20 -> 0 | H26: ='3-Balanço'!I20-'3-Balanço'!J20 -> 0 | I26: ='3-Balanço'!J20-'3-Balanço'!K20 -> 0 | J26: ='3-Balanço'!K20-'3-Balanço'!L20 -> 0 | ... O26: ='3-Balanço'!P20-'3-Balanço'!Q20 -> 0
B27: Variações ao imobilizado | C27: ='3-Balanço'!D21-'3-Balanço'!E21 -> -2000 | D27: ='3-Balanço'!E21-'3-Balanço'!F21 -> -2000 | E27: ='3-Balanço'!F21-'3-Balanço'!G21 -> -1500 | F27: ='3-Balanço'!G21-'3-Balanço'!H21 -> -1500 | G27: ='3-Balanço'!H21-'3-Balanço'!I21 -> -3830 | H27: ='3-Balanço'!I21-'3-Balanço'!J21 -> -3830 | I27: ='3-Balanço'!J21-'3-Balanço'!K21 -> -3830 | J27: ='3-Balanço'!K21-'3-Balanço'!L21 -> -3830 | ... O27: ='3-Balanço'!P21-'3-Balanço'!Q21 -> -3830
B28: Ágio na aquisição de controladas | C28: ='3-Balanço'!D27-'3-Balanço'!E27 -> 0 | D28: ='3-Balanço'!E27-'3-Balanço'!F27 -> 0 | E28: ='3-Balanço'!F27-'3-Balanço'!G27 -> 0 | F28: ='3-Balanço'!G27-'3-Balanço'!H27 -> 0 | G28: ='3-Balanço'!H27-'3-Balanço'!I27 -> 0 | H28: ='3-Balanço'!I27-'3-Balanço'!J27 -> 0 | I28: ='3-Balanço'!J27-'3-Balanço'!K27 -> 0 | J28: ='3-Balanço'!K27-'3-Balanço'!L27 -> 0 | ... O28: ='3-Balanço'!P27-'3-Balanço'!Q27 -> 0
B29: Empréstimos e adiantamentos a receber LP | C29: ='3-Balanço'!D28-'3-Balanço'!E28 -> 0 | D29: ='3-Balanço'!E28-'3-Balanço'!F28 -> 0 | E29: ='3-Balanço'!F28-'3-Balanço'!G28 -> 0 | F29: ='3-Balanço'!G28-'3-Balanço'!H28 -> 0 | G29: ='3-Balanço'!H28-'3-Balanço'!I28 -> 0 | H29: ='3-Balanço'!I28-'3-Balanço'!J28 -> 0 | I29: ='3-Balanço'!J28-'3-Balanço'!K28 -> 0 | J29: ='3-Balanço'!K28-'3-Balanço'!L28 -> 0 | ... O29: ='3-Balanço'!P28-'3-Balanço'!Q28 -> 0
B30: Custo de pensão pago antecipadamente | C30: ='3-Balanço'!D31-'3-Balanço'!E31 -> 0 | D30: ='3-Balanço'!E31-'3-Balanço'!F31 -> 0 | E30: ='3-Balanço'!F31-'3-Balanço'!G31 -> 0 | F30: ='3-Balanço'!G31-'3-Balanço'!H31 -> 0 | G30: ='3-Balanço'!H31-'3-Balanço'!I31 -> 0 | H30: ='3-Balanço'!I31-'3-Balanço'!J31 -> 0 | I30: ='3-Balanço'!J31-'3-Balanço'!K31 -> 0 | J30: ='3-Balanço'!K31-'3-Balanço'!L31 -> 0 | ... O30: ='3-Balanço'!P31-'3-Balanço'!Q31 -> 0
B31: Imposto de renda diferido | C31: ='3-Balanço'!D32-'3-Balanço'!E32 -> 0 | D31: ='3-Balanço'!E32-'3-Balanço'!F32 -> 0 | E31: ='3-Balanço'!F32-'3-Balanço'!G32 -> 0 | F31: ='3-Balanço'!G32-'3-Balanço'!H32 -> 0 | G31: ='3-Balanço'!H32-'3-Balanço'!I32 -> 0 | H31: ='3-Balanço'!I32-'3-Balanço'!J32 -> 0 | I31: ='3-Balanço'!J32-'3-Balanço'!K32 -> 0 | J31: ='3-Balanço'!K32-'3-Balanço'!L32 -> 0 | ... O31: ='3-Balanço'!P32-'3-Balanço'!Q32 -> 0
B32: Depósitos judiciais | C32: ='3-Balanço'!D33-'3-Balanço'!E33 -> 0 | D32: ='3-Balanço'!E33-'3-Balanço'!F33 -> 0 | E32: ='3-Balanço'!F33-'3-Balanço'!G33 -> 0 | F32: ='3-Balanço'!G33-'3-Balanço'!H33 -> 0 | G32: ='3-Balanço'!H33-'3-Balanço'!I33 -> 0 | H32: ='3-Balanço'!I33-'3-Balanço'!J33 -> 0 | I32: ='3-Balanço'!J33-'3-Balanço'!K33 -> 0 | J32: ='3-Balanço'!K33-'3-Balanço'!L33 -> 0 | ... O32: ='3-Balanço'!P33-'3-Balanço'!Q33 -> 0
B33: Ganhos não realizados | C33: ='3-Balanço'!D34-'3-Balanço'!E34 -> 0 | D33: ='3-Balanço'!E34-'3-Balanço'!F34 -> 0 | E33: ='3-Balanço'!F34-'3-Balanço'!G34 -> 0 | F33: ='3-Balanço'!G34-'3-Balanço'!H34 -> 0 | G33: ='3-Balanço'!H34-'3-Balanço'!I34 -> 0 | H33: ='3-Balanço'!I34-'3-Balanço'!J34 -> 0 | I33: ='3-Balanço'!J34-'3-Balanço'!K34 -> 0 | J33: ='3-Balanço'!K34-'3-Balanço'!L34 -> 0 | ... O33: ='3-Balanço'!P34-'3-Balanço'!Q34 -> 0
B34: Outros | C34: ='3-Balanço'!D35-'3-Balanço'!E35 -> 0 | D34: ='3-Balanço'!E35-'3-Balanço'!F35 -> 0 | E34: ='3-Balanço'!F35-'3-Balanço'!G35 -> 0 | F34: ='3-Balanço'!G35-'3-Balanço'!H35 -> 0 | G34: ='3-Balanço'!H35-'3-Balanço'!I35 -> 0 | H34: ='3-Balanço'!I35-'3-Balanço'!J35 -> 0 | I34: ='3-Balanço'!J35-'3-Balanço'!K35 -> 0 | J34: ='3-Balanço'!K35-'3-Balanço'!L35 -> 0 | ... O34: ='3-Balanço'!P35-'3-Balanço'!Q35 -> 0
B36: Recursos líquidos provenientes de atividades de investimento | C36: =SUM(C22:C35) -> -2000 | D36: =SUM(D22:D35) -> -2000 | E36: =SUM(E22:E35) -> -1500 | F36: =SUM(F22:F35) -> -1500 | G36: =SUM(G22:G35) -> -3830 | H36: =SUM(H22:H35) -> -3830 | I36: =SUM(I22:I35) -> -3830 | J36: =SUM(J22:J35) -> -3830 | ... O36: =SUM(O22:O35) -> -3830
B37: Fluxos de caixa provenientes das atividades de financiamento:
B38: Imposto de Renda | C38: ='3-Balanço'!E49-'3-Balanço'!D49 -> 0 | D38: ='3-Balanço'!F49-'3-Balanço'!E49 -> 0 | E38: ='3-Balanço'!G49-'3-Balanço'!F49 -> 0 | F38: ='3-Balanço'!H49-'3-Balanço'!G49 -> 0 | G38: ='3-Balanço'!I49-'3-Balanço'!H49 -> 0 | H38: ='3-Balanço'!J49-'3-Balanço'!I49 -> 0 | I38: ='3-Balanço'!K49-'3-Balanço'!J49 -> 0 | J38: ='3-Balanço'!L49-'3-Balanço'!K49 -> 0 | ... O38: ='3-Balanço'!Q49-'3-Balanço'!P49 -> 0
B39: Outros | C39: ='3-Balanço'!E50-'3-Balanço'!D50 -> 0 | D39: ='3-Balanço'!F50-'3-Balanço'!E50 -> 0 | E39: ='3-Balanço'!G50-'3-Balanço'!F50 -> 0 | F39: ='3-Balanço'!H50-'3-Balanço'!G50 -> 0 | G39: ='3-Balanço'!I50-'3-Balanço'!H50 -> 0 | H39: ='3-Balanço'!J50-'3-Balanço'!I50 -> 0 | I39: ='3-Balanço'!K50-'3-Balanço'!J50 -> 0 | J39: ='3-Balanço'!L50-'3-Balanço'!K50 -> 0 | ... O39: ='3-Balanço'!Q50-'3-Balanço'!P50 -> 0
B40: Empréstimos e financiamentos de curto prazo (captações líquidas) | C40: ='3-Balanço'!E47-'3-Balanço'!D47+'3-Balanço'!E46-'3-Balanço'!D46 -> -108 | D40: ='3-Balanço'!F47-'3-Balanço'!E47+'3-Balanço'!F46-'3-Balanço'!E46 -> -191 | E40: ='3-Balanço'!G47-'3-Balanço'!F47+'3-Balanço'!G46-'3-Balanço'!F46 -> -56 | F40: ='3-Balanço'!H47-'3-Balanço'!G47+'3-Balanço'!H46-'3-Balanço'!G46 -> 1486.4 | G40: ='3-Balanço'!I47-'3-Balanço'!H47+'3-Balanço'!I46-'3-Balanço'!H46 -> -1153.8 | H40: ='3-Balanço'!J47-'3-Balanço'!I47+'3-Balanço'!J46-'3-Balanço'!I46 -> 82.2 | I40: ='3-Balanço'!K47-'3-Balanço'!J47+'3-Balanço'!K46-'3-Balanço'!J46 -> 0 | J40: ='3-Balanço'!L47-'3-Balanço'!K47+'3-Balanço'!L46-'3-Balanço'!K46 -> 46.2 | ... O40: ='3-Balanço'!Q47-'3-Balanço'!P47+'3-Balanço'!Q46-'3-Balanço'!P46 -> -224.2
B41: Empréstimos
B42: Partes relacionadas | C42: ='3-Balanço'!E48-'3-Balanço'!D48 -> 0 | D42: ='3-Balanço'!F48-'3-Balanço'!E48 -> 0 | E42: ='3-Balanço'!G48-'3-Balanço'!F48 -> 0 | F42: ='3-Balanço'!H48-'3-Balanço'!G48 -> 0 | G42: ='3-Balanço'!I48-'3-Balanço'!H48 -> 0 | H42: ='3-Balanço'!J48-'3-Balanço'!I48 -> 0 | I42: ='3-Balanço'!K48-'3-Balanço'!J48 -> 0 | J42: ='3-Balanço'!L48-'3-Balanço'!K48 -> 0 | ... O42: ='3-Balanço'!Q48-'3-Balanço'!P48 -> 0
B43: Empréstimos e financiamentos de longo prazo
B44: Partes relacionadas | C44: ='3-Balanço'!E56-'3-Balanço'!D56 -> 0 | D44: ='3-Balanço'!F56-'3-Balanço'!E56 -> 0 | E44: ='3-Balanço'!G56-'3-Balanço'!F56 -> 0 | F44: ='3-Balanço'!H56-'3-Balanço'!G56 -> 0 | G44: ='3-Balanço'!I56-'3-Balanço'!H56 -> 0 | H44: ='3-Balanço'!J56-'3-Balanço'!I56 -> 0 | I44: ='3-Balanço'!K56-'3-Balanço'!J56 -> 0 | J44: ='3-Balanço'!L56-'3-Balanço'!K56 -> 0 | ... O44: ='3-Balanço'!Q56-'3-Balanço'!P56 -> 0
...

Sheet 6-Desempenho
C1: Voltar índice
O2: (Coloque aqui Logotipo)
B3: Indicadores Econômico-Financeiros
D4: =+'3-Balanço'!D5 -> 42004 | E4: =+'3-Balanço'!E5 -> 42369 | F4: =+'3-Balanço'!F5 -> 42735 | G4: =+'3-Balanço'!G5 -> 43100 | H4: =+'3-Balanço'!H5 -> 43465 | I4: =+'3-Balanço'!I5 -> 43830 | J4: =+'3-Balanço'!J5 -> 44196 | K4: =+'3-Balanço'!K5 -> 44561 | ... Q4: =+'3-Balanço'!Q5 -> 46752
C6: RENTABILIDADE
C8: Margem Bruta (%) | D8: ='4-DRE'!B29/'4-DRE'!B22 -> 0.49404909 | E8: ='4-DRE'!C29/'4-DRE'!C22 -> 0.49573911 | F8: ='4-DRE'!D29/'4-DRE'!D22 -> 0.50685292 | G8: ='4-DRE'!E29/'4-DRE'!E22 -> 0.50686148 | H8: ='4-DRE'!F29/'4-DRE'!F22 -> 0.51137887 | I8: ='4-DRE'!G29/'4-DRE'!G22 -> 0.51519653 | J8: ='4-DRE'!H29/'4-DRE'!H22 -> 0.51836352 | K8: ='4-DRE'!I29/'4-DRE'!I22 -> 0.55624933 | ... Q8: ='4-DRE'!O29/'4-DRE'!O22 -> 0.69428661
C9: Margem Operacional Própria (%) | D9: ='4-DRE'!B43/'4-DRE'!B22 -> 0.3723035 | E9: ='4-DRE'!C43/'4-DRE'!C22 -> 0.42231699 | F9: ='4-DRE'!D43/'4-DRE'!D22 -> 0.42289972 | G9: ='4-DRE'!E43/'4-DRE'!E22 -> 0.41959249 | H9: ='4-DRE'!F43/'4-DRE'!F22 -> 0.42707448 | I9: ='4-DRE'!G43/'4-DRE'!G22 -> 0.44647333 | J9: ='4-DRE'!H43/'4-DRE'!H22 -> 0.44325389 | K9: ='4-DRE'!I43/'4-DRE'!I22 -> 0.48118113 | ... Q9: ='4-DRE'!O43/'4-DRE'!O22 -> 0.67462411
C10: Margem Líquida (%) | D10: ='4-DRE'!B53/'4-DRE'!B22 -> 0.31899331 | E10: ='4-DRE'!C53/'4-DRE'!C22 -> 0.31706039 | F10: ='4-DRE'!D53/'4-DRE'!D22 -> 0.27939371 | G10: ='4-DRE'!E53/'4-DRE'!E22 -> 0.27717385 | H10: ='4-DRE'!F53/'4-DRE'!F22 -> 0.28207979 | I10: ='4-DRE'!G53/'4-DRE'!G22 -> 0.29485512 | J10: ='4-DRE'!H53/'4-DRE'!H22 -> 0.29270608 | K10: ='4-DRE'!I53/'4-DRE'!I22 -> 0.31771705 | ... Q10: ='4-DRE'!O53/'4-DRE'!O22 -> 0.44531052
C11: Ebitda - US$ Milhões | D11: ='4-DRE'!B35 -> 3522 | E11: ='4-DRE'!C35 -> 4275.7767 | F11: ='4-DRE'!D35 -> 5057.5989 | G11: ='4-DRE'!E35 -> 5806.76 | H11: ='4-DRE'!F35 -> 6668.3271 | I11: ='4-DRE'!G35 -> 7828.3101 | J11: ='4-DRE'!H35 -> 9274.2604 | K11: ='4-DRE'!I35 -> 11685.351 | ... Q11: ='4-DRE'!O35 -> 35392.116
C12: Ebitda/Receita (%) | D12: =D11/'4-DRE'!B22 -> 0.43664766 | E12: =E11/'4-DRE'!C22 -> 0.45985739 | F12: =F11/'4-DRE'!D22 -> 0.47186625 | G12: =G11/'4-DRE'!E22 -> 0.46997503 | H12: =H11/'4-DRE'!F22 -> 0.4681922 | I12: =I11/'4-DRE'!G22 -> 0.47680595 | J12: =J11/'4-DRE'!H22 -> 0.49002621 | K12: =K11/'4-DRE'!I22 -> 0.53560935 | ... Q12: =Q11/'4-DRE'!O22 -> 0.69137101
C13: Retorno sobre o Investimento (%) (Margem X Giro) | D13: =D10*D38 -> 0.23517046 | E13: =E10*E38 -> 0.21895969 | F13: =F10*F38 -> 0.19677941 | G13: =G10*G38 -> 0.2089208 | H13: =H10*H38 -> 0.22926629 | I13: =I10*I38 -> 0.23056696 | J13: =J10*J38 -> 0.22730937 | K13: =K10*K38 -> 0.25677474 | ... Q13: =Q10*Q38 -> 0.55969503
C14: Retorno s/ Patrim. Líq. Médio (%) | D14: ='4-DRE'!B53/((('3-Balanço'!D74-'4-DRE'!B53)+'3-Balanço'!C74)/2) -> 0.5304061 | E14: ='4-DRE'!C53/((('3-Balanço'!E74-'4-DRE'!C53)+'3-Balanço'!D74)/2) -> 0.43689277 | F14: ='4-DRE'!D53/((('3-Balanço'!F74-'4-DRE'!D53)+'3-Balanço'!E74)/2) -> 0.36012397 | G14: ='4-DRE'!E53/((('3-Balanço'!G74-'4-DRE'!E53)+'3-Balanço'!F74)/2) -> 0.34857915 | H14: ='4-DRE'!F53/((('3-Balanço'!H74-'4-DRE'!F53)+'3-Balanço'!G74)/2) -> 0.34502584 | I14: ='4-DRE'!G53/((('3-Balanço'!I74-'4-DRE'!G53)+'3-Balanço'!H74)/2) -> 0.3640088 | J14: ='4-DRE'!H53/((('3-Balanço'!J74-'4-DRE'!H53)+'3-Balanço'!I74)/2) -> 0.37385008 | K14: ='4-DRE'!I53/((('3-Balanço'!K74-'4-DRE'!I53)+'3-Balanço'!J74)/2) -> 0.42098701 | ... Q14: ='4-DRE'!O53/((('3-Balanço'!Q74-'4-DRE'!O53)+'3-Balanço'!P74)/2) -> 0.57083556
C15: Geração Operacional de Caixa - Base: Fluxo de Caixa | E15: ='5-FC'!C58 -> -715.11338 | F15: ='5-FC'!D58 -> 214.82389 | G15: ='5-FC'!E58 -> 1542.753 | H15: ='5-FC'!F58 -> 2228.2936 | I15: ='5-FC'!G58 -> -3369.894 | J15: ='5-FC'!H58 -> -886.66062 | K15: ='5-FC'!I58 -> 622.47011 | L15: ='5-FC'!J58 -> 1106.6351 | ... Q15: ='5-FC'!O58 -> 6109.9826
C16: Geração Operacional de Caixa / Rec. Operacional Líq. (%) | D16: =D15/'4-DRE'!B22 -> 0 | E16: =E15/'4-DRE'!C22 -> -0.076910044 | F16: =F15/'4-DRE'!D22 -> 0.020042741 | G16: =G15/'4-DRE'!E22 -> 0.12486402 | H16: =H15/'4-DRE'!F22 -> 0.15645149 | I16: =I15/'4-DRE'!G22 -> -0.20525318 | J16: =J15/'4-DRE'!H22 -> -0.046848689 | K16: =K15/'4-DRE'!I22 -> 0.02853152 | ... Q16: =Q15/'4-DRE'!O22 -> 0.1193561
C18: ESTRUTURA
